BEGIN:VCALENDAR
VERSION:2.0
PRODID:-//U.A. Plumbers &amp; Steamfitters Local 22 - ECPv6.15.20//NONSGML v1.0//EN
CALSCALE:GREGORIAN
METHOD:PUBLISH
X-WR-CALNAME:U.A. Plumbers &amp; Steamfitters Local 22
X-ORIGINAL-URL:https://ualocal22.com
X-WR-CALDESC:Events for U.A. Plumbers &amp; Steamfitters Local 22
REFRESH-INTERVAL;VALUE=DURATION:PT1H
X-Robots-Tag:noindex
X-PUBLISHED-TTL:PT1H
BEGIN:VTIMEZONE
TZID:America/New_York
BEGIN:DAYLIGHT
TZOFFSETFROM:-0500
TZOFFSETTO:-0400
TZNAME:EDT
DTSTART:20240310T070000
END:DAYLIGHT
BEGIN:STANDARD
TZOFFSETFROM:-0400
TZOFFSETTO:-0500
TZNAME:EST
DTSTART:20241103T060000
END:STANDARD
BEGIN:DAYLIGHT
TZOFFSETFROM:-0500
TZOFFSETTO:-0400
TZNAME:EDT
DTSTART:20250309T070000
END:DAYLIGHT
BEGIN:STANDARD
TZOFFSETFROM:-0400
TZOFFSETTO:-0500
TZNAME:EST
DTSTART:20251102T060000
END:STANDARD
BEGIN:DAYLIGHT
TZOFFSETFROM:-0500
TZOFFSETTO:-0400
TZNAME:EDT
DTSTART:20260308T070000
END:DAYLIGHT
BEGIN:STANDARD
TZOFFSETFROM:-0400
TZOFFSETTO:-0500
TZNAME:EST
DTSTART:20261101T060000
END:STANDARD
END:VTIMEZONE
BEGIN:VEVENT
DTSTART;TZID=America/New_York:20250607T110000
DTEND;TZID=America/New_York:20250607T160000
DTSTAMP:20260424T121347
CREATED:20250513T112900Z
LAST-MODIFIED:20250513T112932Z
UID:5052-1749294000-1749312000@ualocal22.com
SUMMARY:The Local 22 Picnic\, Car and Bike Show 2025
DESCRIPTION:Contact Hall for details. Tickets are availble for the event at Union Hall.
URL:https://ualocal22.com/event/local-22-picnic/
CATEGORIES:Union Offices
END:VEVENT
END:VCALENDAR