BEGIN:VCALENDAR
VERSION:2.0
PRODID:-//U.A. Plumbers &amp; Steamfitters Local 22 - ECPv6.15.20//NONSGML v1.0//EN
CALSCALE:GREGORIAN
METHOD:PUBLISH
X-ORIGINAL-URL:https://ualocal22.com
X-WR-CALDESC:Events for U.A. Plumbers &amp; Steamfitters Local 22
REFRESH-INTERVAL;VALUE=DURATION:PT1H
X-Robots-Tag:noindex
X-PUBLISHED-TTL:PT1H
BEGIN:VTIMEZONE
TZID:America/New_York
BEGIN:DAYLIGHT
TZOFFSETFROM:-0500
TZOFFSETTO:-0400
TZNAME:EDT
DTSTART:20250309T070000
END:DAYLIGHT
BEGIN:STANDARD
TZOFFSETFROM:-0400
TZOFFSETTO:-0500
TZNAME:EST
DTSTART:20251102T060000
END:STANDARD
BEGIN:DAYLIGHT
TZOFFSETFROM:-0500
TZOFFSETTO:-0400
TZNAME:EDT
DTSTART:20260308T070000
END:DAYLIGHT
BEGIN:STANDARD
TZOFFSETFROM:-0400
TZOFFSETTO:-0500
TZNAME:EST
DTSTART:20261101T060000
END:STANDARD
BEGIN:DAYLIGHT
TZOFFSETFROM:-0500
TZOFFSETTO:-0400
TZNAME:EDT
DTSTART:20270314T070000
END:DAYLIGHT
BEGIN:STANDARD
TZOFFSETFROM:-0400
TZOFFSETTO:-0500
TZNAME:EST
DTSTART:20271107T060000
END:STANDARD
END:VTIMEZONE
BEGIN:VEVENT
DTSTART;VALUE=DATE:20260101
DTEND;VALUE=DATE:20260102
DTSTAMP:20260423T191348
CREATED:20250513T125029Z
LAST-MODIFIED:20251229T152631Z
UID:5296-1767225600-1767311999@ualocal22.com
SUMMARY:New Year's day Office Closed
DESCRIPTION:Offices Closed
URL:https://ualocal22.com/event/new-years-day/
CATEGORIES:Training Department,Union Offices
END:VEVENT
BEGIN:VEVENT
DTSTART;TZID=America/New_York:20260106T090000
DTEND;TZID=America/New_York:20260106T170000
DTSTAMP:20260423T191348
CREATED:20251229T154956Z
LAST-MODIFIED:20251229T154956Z
UID:5435-1767690000-1767718800@ualocal22.com
SUMMARY:Plumbers Apprenticeship Application
DESCRIPTION:Pick up 9 am to 5 pm
URL:https://ualocal22.com/event/plumbers-apprenticeship-application/
CATEGORIES:Training Department,Union Offices
END:VEVENT
BEGIN:VEVENT
DTSTART;TZID=America/New_York:20260108T170000
DTEND;TZID=America/New_York:20260108T190000
DTSTAMP:20260423T191348
CREATED:20251229T150307Z
LAST-MODIFIED:20251229T154628Z
UID:5386-1767891600-1767898800@ualocal22.com
SUMMARY:Union Meeting
DESCRIPTION:
URL:https://ualocal22.com/event/union-meeting-5/
CATEGORIES:Training Department,Union Offices
END:VEVENT
BEGIN:VEVENT
DTSTART;TZID=America/New_York:20260113T090000
DTEND;TZID=America/New_York:20260113T170000
DTSTAMP:20260423T191348
CREATED:20251229T155052Z
LAST-MODIFIED:20251229T155052Z
UID:5437-1768294800-1768323600@ualocal22.com
SUMMARY:Steamfitter Apprenticeship Application
DESCRIPTION:
URL:https://ualocal22.com/event/steamfitter-apprenticeship-application/
CATEGORIES:Training Department,Union Offices
END:VEVENT
BEGIN:VEVENT
DTSTART;TZID=America/New_York:20260120T090000
DTEND;TZID=America/New_York:20260120T170000
DTSTAMP:20260423T191348
CREATED:20251229T155131Z
LAST-MODIFIED:20251229T155131Z
UID:5439-1768899600-1768928400@ualocal22.com
SUMMARY:HVAC Apprenticeship Application
DESCRIPTION:
URL:https://ualocal22.com/event/hvac-apprenticeship-application/
CATEGORIES:Training Department,Union Offices
END:VEVENT
END:VCALENDAR