BEGIN:VCALENDAR
VERSION:2.0
PRODID:-//U.A. Plumbers &amp; Steamfitters Local 22 - ECPv6.15.20//NONSGML v1.0//EN
CALSCALE:GREGORIAN
METHOD:PUBLISH
X-ORIGINAL-URL:https://ualocal22.com
X-WR-CALDESC:Events for U.A. Plumbers &amp; Steamfitters Local 22
REFRESH-INTERVAL;VALUE=DURATION:PT1H
X-Robots-Tag:noindex
X-PUBLISHED-TTL:PT1H
BEGIN:VTIMEZONE
TZID:America/New_York
BEGIN:DAYLIGHT
TZOFFSETFROM:-0500
TZOFFSETTO:-0400
TZNAME:EDT
DTSTART:20250309T070000
END:DAYLIGHT
BEGIN:STANDARD
TZOFFSETFROM:-0400
TZOFFSETTO:-0500
TZNAME:EST
DTSTART:20251102T060000
END:STANDARD
BEGIN:DAYLIGHT
TZOFFSETFROM:-0500
TZOFFSETTO:-0400
TZNAME:EDT
DTSTART:20260308T070000
END:DAYLIGHT
BEGIN:STANDARD
TZOFFSETFROM:-0400
TZOFFSETTO:-0500
TZNAME:EST
DTSTART:20261101T060000
END:STANDARD
BEGIN:DAYLIGHT
TZOFFSETFROM:-0500
TZOFFSETTO:-0400
TZNAME:EDT
DTSTART:20270314T070000
END:DAYLIGHT
BEGIN:STANDARD
TZOFFSETFROM:-0400
TZOFFSETTO:-0500
TZNAME:EST
DTSTART:20271107T060000
END:STANDARD
END:VTIMEZONE
BEGIN:VEVENT
DTSTART;VALUE=DATE:20260703
DTEND;VALUE=DATE:20260704
DTSTAMP:20260423T191225
CREATED:20251229T152022Z
LAST-MODIFIED:20251229T154334Z
UID:5411-1783036800-1783123199@ualocal22.com
SUMMARY:Independence day (Observed)
DESCRIPTION:Office closed
URL:https://ualocal22.com/event/independence-day-observed/
CATEGORIES:Training Department,Union Offices
END:VEVENT
BEGIN:VEVENT
DTSTART;VALUE=DATE:20260704
DTEND;VALUE=DATE:20260705
DTSTAMP:20260423T191225
CREATED:20251229T152100Z
LAST-MODIFIED:20251229T154302Z
UID:5413-1783123200-1783209599@ualocal22.com
SUMMARY:Independence day
DESCRIPTION:
URL:https://ualocal22.com/event/independence-day-2/
CATEGORIES:Training Department,Union Offices
END:VEVENT
BEGIN:VEVENT
DTSTART;TZID=America/New_York:20260709T170000
DTEND;TZID=America/New_York:20260709T190000
DTSTAMP:20260423T191225
CREATED:20251229T151119Z
LAST-MODIFIED:20251229T154241Z
UID:5399-1783616400-1783623600@ualocal22.com
SUMMARY:Union Meeting
DESCRIPTION:Call union hall for addtional details.
URL:https://ualocal22.com/event/union-meeting-11/
CATEGORIES:Training Department,Union Offices
END:VEVENT
END:VCALENDAR